BEGIN:VCALENDAR
VERSION:2.0
PRODID:-//Prosoft - ECPv5.16.1.1//NONSGML v1.0//EN
CALSCALE:GREGORIAN
METHOD:PUBLISH
X-WR-CALNAME:Prosoft
X-ORIGINAL-URL:https://www.prosoft.com.br
X-WR-CALDESC:Eventos para Prosoft
BEGIN:VTIMEZONE
TZID:America/Sao_Paulo
BEGIN:STANDARD
TZOFFSETFROM:-0300
TZOFFSETTO:-0300
TZNAME:-03
DTSTART:20230101T000000
END:STANDARD
END:VTIMEZONE
BEGIN:VEVENT
DTSTART;TZID=America/Sao_Paulo:20230320T150000
DTEND;TZID=America/Sao_Paulo:20230320T160000
DTSTAMP:20260421T193801
CREATED:20230303T202629Z
LAST-MODIFIED:20230303T202629Z
UID:28248-1679324400-1679328000@www.prosoft.com.br
SUMMARY:Tira-Dúvidas Analir
DESCRIPTION:Acesso Evento
URL:https://www.prosoft.com.br/evento/tira-duvidas-analir-2/
END:VEVENT
END:VCALENDAR